BEGIN:VCALENDAR
VERSION:2.0
PRODID:-//Library Market//iCal Export//EN
BEGIN:VEVENT
SUMMARY:Cookies &amp; Cocoa-Thursday
UID:16329
DTSTAMP:20260422T210900Z
DTSTART:20260115T214500Z
DTEND:20260115T223000Z
LOCATION:Byron Public Library District, 100 S Washington St., Byron, IL 61
 010, United States
ROOM: Activity Room
DESCRIPTION:Taste different types of hot chocolate and different cookies. 
 Rank them in order of your favorites!Youth attend grade school programs wi
 thout a caregiver. If your child needs support, please contact Julie.
URL:https://www.byronlibrary.org/event/copy-cookies-cocoa-thursday-16329
END:VEVENT
END:VCALENDAR
