BEGIN:VCALENDAR
VERSION:2.0
PRODID:-//Library Market//iCal Export//EN
BEGIN:VEVENT
SUMMARY:Valentine Art Kit
UID:16360
DTSTAMP:20260422T210900Z
DTSTART:20260116T150000Z
DTEND:20260116T230000Z
LOCATION:Byron Public Library District, 100 S Washington St., Byron, IL 61
 010, United States
ROOM: Valentine Art Kit
DESCRIPTION:For 2 years-Preschool: Create a Valentine themed art project.
URL:https://www.byronlibrary.org/event/valentine-art-kit-16360
END:VEVENT
END:VCALENDAR
