BEGIN:VCALENDAR
VERSION:2.0
PRODID:-//Library Market//iCal Export//EN
BEGIN:VEVENT
SUMMARY:Baby &amp; Toddler Time-Winter Session: Wednesdays
UID:16368
DTSTAMP:20260422T194900Z
DTSTART:20260218T153000Z
DTEND:20260218T161500Z
LOCATION:Byron Public Library District, 100 S Washington St., Byron, IL 61
 010, United States
ROOM: Meeting Room
DESCRIPTION:Join Miss Meghan for songs, parachute, and playtime. Registra
 tion covers all 8 weeks of the winter session. Please note: If the Byron S
 chools have a snow day, baby &amp; toddler time will be cancelled for the 
 day. 
URL:https://www.byronlibrary.org/event/baby-toddler-time-winter-session-we
 dnesdays-16368
END:VEVENT
END:VCALENDAR
