BEGIN:VCALENDAR
VERSION:2.0
PRODID:-//Library Market//iCal Export//EN
BEGIN:VEVENT
SUMMARY:Winter Footprint Art Kit
UID:16378
DTSTAMP:20260422T210900Z
DTSTART:20260116T150000Z
DTEND:20260116T230000Z
LOCATION:Byron Public Library District, 100 S Washington St., Byron, IL 61
 010, United States
ROOM: Winter Footprint Art Kit
DESCRIPTION:For birth-23 months: Create a winter-themed keepsake with your
  child&#039;s footprint.Please measure your child&#039;s foot and email th
 e size in inches to Julie: julier@byronlibrary.org
URL:https://www.byronlibrary.org/event/winter-footprint-art-kit-16378
END:VEVENT
END:VCALENDAR
