BEGIN:VCALENDAR
VERSION:2.0
PRODID:-//Library Market//iCal Export//EN
BEGIN:VEVENT
SUMMARY:Preschool Storytime-Winter Session: Wednesdays
UID:16383
DTSTAMP:20260422T224900Z
DTSTART:20260121T153000Z
DTEND:20260121T163000Z
LOCATION:Byron Public Library District, 100 S Washington St., Byron, IL 61
 010, United States
ROOM: Activity Room
DESCRIPTION:Registration covers the entire winter session, which runs Jan.
  7-Feb. 25. Pending space, you can register at anytime, and you will be re
 gistered for all sessions going forward. Your child should be 3 years old 
 by January 7 in order to attend preschool storytime.Winter weather: If the
  Byron Schools have a snow day, preschool storytime will be cancelled for 
 the day.
URL:https://www.byronlibrary.org/event/preschool-storytime-winter-session-
 wednesdays-16383
END:VEVENT
END:VCALENDAR
