BEGIN:VCALENDAR
VERSION:2.0
PRODID:-//Library Market//iCal Export//EN
BEGIN:VEVENT
SUMMARY:Book Boxes for Teens
UID:16476
DTSTAMP:20260422T210900Z
DTSTART:20260102T060000Z
DTEND:20260102T060000Z
LOCATION:Byron Public Library District, 100 S Washington St., Byron, IL 61
 010, United States
ROOM: Book Boxes for Teens
DESCRIPTION:Sign up for a Book Box and you pick the genre! This is a quart
 erly program, in which teens can sign up to receive a box filled with two 
 books, crafts and treats. The books will be checked out to your library ca
 rd, and you need to return the two books and box to the library when done 
 reading, but you get to keep everything else in the box! When you register
 , answer a few questions so the books can be tailored to you. Everyone&#03
 9;s box will be slightly different, but all will be packed with awesomenes
 s!Possible genres: fantasy, sci-fi, romance, mystery, thriller, graphic no
 vel, non-fiction, realistic or historical fiction. 
URL:https://www.byronlibrary.org/event/book-boxes-teens-16476
END:VEVENT
END:VCALENDAR
