BEGIN:VCALENDAR
VERSION:2.0
PRODID:-//Library Market//iCal Export//EN
BEGIN:VEVENT
SUMMARY:Volunteens- Meals on Wheels
UID:16478
DTSTAMP:20260422T210900Z
DTSTART:20260113T000000Z
DTEND:20260113T010000Z
LOCATION:Byron Public Library District, 100 S Washington St., Byron, IL 61
 010, United States
ROOM: Teen Department
DESCRIPTION:Volunteer for an hour by drawing on lunch bags for the organiz
 ation Meals on Wheels, and help make their meal brighter! 
URL:https://www.byronlibrary.org/event/volunteens-meals-wheels-16478
END:VEVENT
END:VCALENDAR
