BEGIN:VCALENDAR
VERSION:2.0
PRODID:-//Library Market//iCal Export//EN
BEGIN:VEVENT
SUMMARY:Grab &amp; Go Kit for Teens
UID:16479
DTSTAMP:20260422T211000Z
DTSTART:20260120T060000Z
DTEND:20260120T060000Z
LOCATION:Byron Public Library District, 100 S Washington St., Byron, IL 61
 010, United States
ROOM: Grab &amp; Go Kit for Teens
DESCRIPTION:Teens can drop in and pick up a tape resist watercolor kit to 
 take home and make. No registration is necessary. 
URL:https://www.byronlibrary.org/event/grab-go-kit-teens-16479
END:VEVENT
END:VCALENDAR
