BEGIN:VCALENDAR
VERSION:2.0
PRODID:-//Library Market//iCal Export//EN
BEGIN:VEVENT
SUMMARY:Baby Storytime &amp; Play
UID:16495
DTSTAMP:20260422T210900Z
DTSTART:20260120T173000Z
DTEND:20260120T181500Z
LOCATION:Byron Public Library District, 100 S Washington St., Byron, IL 61
 010, United States
ROOM: Activity Room
DESCRIPTION:For infants-crawlers, with caregiver: Introduce your baby to s
 torytime with songs, rhymes &amp; board books. This program consists of 15
 -20 minutes of guided content, followed by playtime with baby toys &amp; t
 ime to visit with other parents. Older siblings welcome but should be abl
 e to sit for the beginning part of the program; bring a doll or stuffie, s
 o sibling can participate. Confident walkers should register for Toddler E
 xplore.
URL:https://www.byronlibrary.org/event/baby-storytime-play-16495
END:VEVENT
END:VCALENDAR
