BEGIN:VCALENDAR
VERSION:2.0
PRODID:-//Library Market//iCal Export//EN
BEGIN:VEVENT
SUMMARY:Dungeons &amp; Dragons for Teens
UID:16508
DTSTAMP:20260422T224900Z
DTSTART:20260121T213000Z
DTEND:20260121T230000Z
LOCATION:Byron Public Library District, 100 S Washington St., Byron, IL 61
 010, United States
ROOM: Classroom 2
DESCRIPTION:Join our weekly after-school D&amp;D group, which is open to n
 ew and experienced players! 
URL:https://www.byronlibrary.org/event/dungeons-dragons-teens-16508
END:VEVENT
END:VCALENDAR
