BEGIN:VCALENDAR
VERSION:2.0
PRODID:-//Library Market//iCal Export//EN
BEGIN:VEVENT
SUMMARY:Interactive Cards
UID:16547
DTSTAMP:20260422T194900Z
DTSTART:20260210T233000Z
DTEND:20260211T013000Z
LOCATION:Byron Public Library District, 100 S Washington St., Byron, IL 61
 010, United States
ROOM: Creative Studio
DESCRIPTION:Your recipients will love playing with the three interactive c
 ards you make! Each card pulls to open in a unique way. We will make a sli
 der card, a surprise square card and a waterfall card. 
URL:https://www.byronlibrary.org/event/jills-card-program-16547
END:VEVENT
END:VCALENDAR
