BEGIN:VCALENDAR
VERSION:2.0
PRODID:-//Library Market//iCal Export//EN
BEGIN:VEVENT
SUMMARY:3D Cards
UID:16548
DTSTAMP:20260422T181700Z
DTSTART:20260302T183000Z
DTEND:20260302T203000Z
LOCATION:Byron Public Library District, 100 S Washington St., Byron, IL 61
 010, United States
ROOM: Creative Studio
DESCRIPTION:Learn how to make three-dimensional cards! We&#039;ll make a p
 inwheel card, an envelope box card, and a pop-out present card. These 3D c
 ards display nicely, but they all fold flat so they can fit in an envelope
 . Your recipients are sure to be impressed.
URL:https://www.byronlibrary.org/event/jills-card-program-16548
END:VEVENT
END:VCALENDAR
