BEGIN:VCALENDAR
VERSION:2.0
PRODID:-//Library Market//iCal Export//EN
BEGIN:VEVENT
SUMMARY:Beginner Sewing Class
UID:16977
DTSTAMP:20260422T194900Z
DTSTART:20260204T233000Z
DTEND:20260205T013000Z
LOCATION:Byron Public Library District, 100 S Washington St., Byron, IL 61
 010, United States
ROOM: Creative Studio
DESCRIPTION:
URL:https://www.byronlibrary.org/event/beginner-sewing-machine-class-16977
END:VEVENT
END:VCALENDAR
