BEGIN:VCALENDAR
VERSION:2.0
PRODID:-//Library Market//iCal Export//EN
BEGIN:VEVENT
SUMMARY:Chocolate Taste Testing
UID:16981
DTSTAMP:20260422T194900Z
DTSTART:20260218T000000Z
DTEND:20260218T010000Z
LOCATION:Byron Public Library District, 100 S Washington St., Byron, IL 61
 010, United States
ROOM: Meeting Room
DESCRIPTION:Delve into the delicious world of chocolate as we taste-test a
  variety of flavorful types. Discover how to use all your senses- sight, s
 mell, touch, sound, and taste- to experience chocolate in a whole new way.
  Join us for an engaging, hands-on session that will deepen your appreciat
 ion for this beloved treat.
URL:https://www.byronlibrary.org/event/chocolate-taste-testing-16981
END:VEVENT
END:VCALENDAR
