BEGIN:VCALENDAR
VERSION:2.0
PRODID:-//Library Market//iCal Export//EN
BEGIN:VEVENT
SUMMARY:Bunny Bottom Blooms Kit
UID:17034
DTSTAMP:20260422T181700Z
DTSTART:20260320T140000Z
DTEND:20260320T220000Z
LOCATION:Byron Public Library District, 100 S Washington St., Byron, IL 61
 010, United States
ROOM: Bunny Bottom Blooms Kit
DESCRIPTION:Welcome spring with this adorable and easy-to-make &quot;Bunny
  Bottom Blooms&quot; craft kit! Create a cheerful arrangement that feature
 s fluffy bunny &quot;digging&quot; in a flower pot. This whimsical decorat
 ion is perfect for an Easter centerpiece, a mantelpiece display, or a cute
  addition to any room. No registration required. First come, first served.
  Limit one per person. No holds. While supplies last. 
URL:https://www.byronlibrary.org/event/bunny-bottom-blooms-17034
END:VEVENT
END:VCALENDAR
