BEGIN:VCALENDAR
VERSION:2.0
PRODID:-//Library Market//iCal Export//EN
BEGIN:VEVENT
SUMMARY:DIY Photo &amp; More Coasters
UID:17035
DTSTAMP:20260422T210900Z
DTSTART:20260220T150000Z
DTEND:20260220T230000Z
LOCATION:Byron Public Library District, 100 S Washington St., Byron, IL 61
 010, United States
ROOM: DIY Photo &amp; More Coasters
DESCRIPTION:Personalize a set of 4 coasters with things that mean the most
  to you! Photos, greeting cards, a pretty napkin, patterned tissue paper o
 r even a special drawing can adorn your coasters! With easy to follow inst
 ructions this will make a sentimental addition to your home or a heartfelt
  gift for someone special! No registration required! First come, first ser
 ved. Limit one per person. No holds. While supplies last. 
URL:https://www.byronlibrary.org/event/diy-photo-more-coasters-17035
END:VEVENT
END:VCALENDAR
