BEGIN:VCALENDAR
VERSION:2.0
PRODID:-//Library Market//iCal Export//EN
BEGIN:VEVENT
SUMMARY:K-Pop Demon Hunters Party
UID:17125
DTSTAMP:20260422T210900Z
DTSTART:20260224T214500Z
DTEND:20260224T223000Z
LOCATION:Byron Public Library District, 100 S Washington St., Byron, IL 61
 010, United States
ROOM: Activity Room &amp; Meeting Room
DESCRIPTION:Join us for activities celebrating all things K-Pop Demon Hunt
 ers! 
URL:https://www.byronlibrary.org/event/k-pop-demon-hunters-party-17125
END:VEVENT
END:VCALENDAR
