BEGIN:VCALENDAR
VERSION:2.0
PRODID:-//Library Market//iCal Export//EN
BEGIN:VEVENT
SUMMARY:Ski Slope Challenge-Thursday
UID:17127
DTSTAMP:20260422T210900Z
DTSTART:20260212T214500Z
DTEND:20260212T223000Z
LOCATION:Byron Public Library District, 100 S Washington St., Byron, IL 61
 010, United States
ROOM: Activity Room
DESCRIPTION:For K-5th: Design a pipe cleaner skier and a pair of skis. Rac
 e it down the ski hill.Note: Grade schoolers attend after school programs 
 without an adult. If you child needs extra support, please contact Julie.
URL:https://www.byronlibrary.org/event/copy-ski-slope-challenge-thursday-1
 7127
END:VEVENT
END:VCALENDAR
