BEGIN:VCALENDAR
VERSION:2.0
PRODID:-//Library Market//iCal Export//EN
BEGIN:VEVENT
SUMMARY:3-D Carousel Horse Kit
UID:17129
DTSTAMP:20260422T210900Z
DTSTART:20260213T150000Z
DTEND:20260213T230000Z
LOCATION:Byron Public Library District, 100 S Washington St., Byron, IL 61
 010, United States
ROOM: 3-D Carousel Horse Kit
DESCRIPTION:For K-5th grade. Create a 3-D carousel horse that moves!
URL:https://www.byronlibrary.org/event/3-d-carousel-horse-kit-17129
END:VEVENT
END:VCALENDAR
