BEGIN:VCALENDAR
VERSION:2.0
PRODID:-//Library Market//iCal Export//EN
BEGIN:VEVENT
SUMMARY:Cheat You Fair: The Story of Maxwell Street
UID:17130
DTSTAMP:20260422T164600Z
DTSTART:20260505T190000Z
DTEND:20260505T203000Z
LOCATION:Byron Public Library District, 100 S Washington St., Byron, IL 61
 010, United States
ROOM: Meeting Room
DESCRIPTION:Join Crossroads Blues Society as they present the movie Cheat 
 You Fair: The Story of Maxwell Street. This film, originally released in 2
 006, was marketed as a non-mainstream film. This documentary details the h
 istory of Chicago&#039;s Maxwell Street community, including the rise and 
 fall of the Maxwell Street Market. Cheat You Fair was nominated for two 20
 12 Chicago/Midwest Emmy Awards and won one. 
URL:https://www.byronlibrary.org/event/crossroads-blues-society-christine-
 17130
END:VEVENT
END:VCALENDAR
