BEGIN:VCALENDAR
VERSION:2.0
PRODID:-//Library Market//iCal Export//EN
BEGIN:VEVENT
SUMMARY:Toddler Explore &amp; More
UID:17207
DTSTAMP:20260422T194900Z
DTSTART:20260203T153000Z
DTEND:20260203T161500Z
LOCATION:Byron Public Library District, 100 S Washington St., Byron, IL 61
 010, United States
ROOM: Activity Room
DESCRIPTION:Join us for a short book, songs &amp; rhymes, followed by sens
 ory explorations and hands on learning stations in a small group format. T
 his program is designed for walkers-35 months, with a caregiver.  Registe
 r your child only; your child should be walking-35 months to register for 
 this program. Younger or older siblings may accompany caregiver and child 
 but do not need to register. Please contact Julie with any questions. 
URL:https://www.byronlibrary.org/event/toddler-explore-more-17207
END:VEVENT
END:VCALENDAR
