BEGIN:VCALENDAR
VERSION:2.0
PRODID:-//Library Market//iCal Export//EN
BEGIN:VEVENT
SUMMARY:Volunteens- Homebound Delivery Services
UID:17237
DTSTAMP:20260422T210900Z
DTSTART:20260203T000000Z
DTEND:20260203T010000Z
LOCATION:Byron Public Library District, 100 S Washington St., Byron, IL 61
 010, United States
ROOM: Teen Department
DESCRIPTION:Help make bookmarks, cards and small art projects that will be
  included in book bags given to our patrons in our new Homebound Delivery 
 Services. 
URL:https://www.byronlibrary.org/event/volunteens-making-projects-homeboun
 d-delivery-services-17237
END:VEVENT
END:VCALENDAR
