BEGIN:VCALENDAR
VERSION:2.0
PRODID:-//Library Market//iCal Export//EN
BEGIN:VEVENT
SUMMARY:Bridge
UID:17298
DTSTAMP:20260422T164600Z
DTSTART:20260127T190000Z
DTEND:20260127T220000Z
LOCATION:Byron Public Library District, 100 S Washington St., Byron, IL 61
 010, United States
ROOM: Classroom 1
DESCRIPTION:
URL:https://www.byronlibrary.org/event/bridge-17298
END:VEVENT
END:VCALENDAR
