BEGIN:VCALENDAR
VERSION:2.0
PRODID:-//Library Market//iCal Export//EN
BEGIN:VEVENT
SUMMARY:Bridge
UID:17329
DTSTAMP:20260422T181700Z
DTSTART:20260514T180000Z
DTEND:20260514T210000Z
LOCATION:Byron Public Library District, 100 S Washington St., Byron, IL 61
 010, United States
ROOM: Classroom 1
DESCRIPTION:
URL:https://www.byronlibrary.org/event/bridge-17329
END:VEVENT
END:VCALENDAR
