BEGIN:VCALENDAR
VERSION:2.0
PRODID:-//Library Market//iCal Export//EN
BEGIN:VEVENT
SUMMARY:Bridge
UID:17388
DTSTAMP:20260422T181700Z
DTSTART:20261208T190000Z
DTEND:20261208T220000Z
LOCATION:Byron Public Library District, 100 S Washington St., Byron, IL 61
 010, United States
ROOM: Classroom 1
DESCRIPTION:
URL:https://www.byronlibrary.org/event/bridge-17388
END:VEVENT
END:VCALENDAR
