BEGIN:VCALENDAR
VERSION:2.0
PRODID:-//Library Market//iCal Export//EN
BEGIN:VEVENT
SUMMARY:The History of Simon &amp; Garfunkel
UID:17414
DTSTAMP:20260422T181700Z
DTSTART:20260416T230000Z
DTEND:20260417T000000Z
LOCATION:Byron Public Library District, 100 S Washington St., Byron, IL 61
 010, United States
ROOM: Meeting Room
DESCRIPTION:If you took the rich harmonies of the Everly Brothers and matc
 hed it with the lyricism of Bob Dylan the result might be Simon &amp; Garf
 unkel. Often considered the thinking person&#039;s rock &#039;n&#039; roll
 ers they were also one of the most successful musical acts of the 1960&#03
 9;s. Using audio and visual we will trace the arc of Simon &amp; Garfunkel
 &#039;s career from their surprise teenybopper hit &quot;Hey Schoolgirl&qu
 ot; ... to the folk-rock classic &quot;Sound of Silence&quot; ... to the e
 ver popular &quot;Mrs. Robinson&quot; ... to the majesty of &quot;Bridge O
 ver Troubled Water.&quot;
URL:https://www.byronlibrary.org/event/history-simon-garfunkel-17414
END:VEVENT
END:VCALENDAR
