BEGIN:VCALENDAR
VERSION:2.0
PRODID:-//Library Market//iCal Export//EN
BEGIN:VEVENT
SUMMARY:Soap Making for Teens
UID:17429
DTSTAMP:20260422T205900Z
DTSTART:20260213T000000Z
DTEND:20260213T010000Z
LOCATION:Byron Public Library District, 100 S Washington St., Byron, IL 61
 010, United States
ROOM: Meeting Room
DESCRIPTION:We will be making soap using molds. Perfect for yourself or to
  give as a gift! 
URL:https://www.byronlibrary.org/event/soap-making-teens-17429
END:VEVENT
END:VCALENDAR
