BEGIN:VCALENDAR
VERSION:2.0
PRODID:-//Library Market//iCal Export//EN
BEGIN:VEVENT
SUMMARY:Interactive Movie for Teens
UID:17430
DTSTAMP:20260422T194900Z
DTSTART:20260216T190000Z
DTEND:20260216T210000Z
LOCATION:Byron Public Library District, 100 S Washington St., Byron, IL 61
 010, United States
ROOM: Teen Department
DESCRIPTION:On your day off from school, head to the library for an intera
 ctive movie matinee! We will be watching the animated movie Frozen, and ev
 eryone will receive a bag of props to use during the movie. In addition, w
 e will have a frozen ice cream treat!
URL:https://www.byronlibrary.org/event/interactive-movie-teens-17430
END:VEVENT
END:VCALENDAR
