BEGIN:VCALENDAR
VERSION:2.0
PRODID:-//Library Market//iCal Export//EN
BEGIN:VEVENT
SUMMARY:Ramen Noodle Cooking for Teens
UID:17431
DTSTAMP:20260422T210900Z
DTSTART:20260227T000000Z
DTEND:20260227T010000Z
LOCATION:Byron Public Library District, 100 S Washington St., Byron, IL 61
 010, United States
ROOM: Creative Studio
DESCRIPTION:Design (and eat) your own ramen noodle dish! Everyone register
 ed will receive a ramen noodle cup and then will be able to add extra ingr
 edients that will be provided.
URL:https://www.byronlibrary.org/event/ramen-noodle-cooking-teens-17431
END:VEVENT
END:VCALENDAR
