BEGIN:VCALENDAR
VERSION:2.0
PRODID:-//Library Market//iCal Export//EN
BEGIN:VEVENT
SUMMARY:Pressed Floral Art Kit
UID:17459
DTSTAMP:20260422T164600Z
DTSTART:20260410T140000Z
DTEND:20260410T220000Z
LOCATION:Byron Public Library District, 100 S Washington St., Byron, IL 61
 010, United States
ROOM: Pressed Floral Art Kit
DESCRIPTION:Display nature&#039;s beauty with a double glass floating fram
 e as your canvas and dried, pressed floral as your paint! This DIY on the 
 Fly kit includes everything you need to create a one-of-a-kind floral coll
 age that will allow you to bring a piece of nature inside your home. No re
 gistration. First come, first served. Limit one per person. No holds. Whil
 e supplies last.
URL:https://www.byronlibrary.org/event/pressed-floral-art-kit-17459
END:VEVENT
END:VCALENDAR
