BEGIN:VCALENDAR
VERSION:2.0
PRODID:-//Library Market//iCal Export//EN
BEGIN:VEVENT
SUMMARY:Sewing - Phone Holder
UID:17484
DTSTAMP:20260422T181700Z
DTSTART:20260313T150000Z
DTEND:20260313T163000Z
LOCATION:Byron Public Library District, 100 S Washington St., Byron, IL 61
 010, United States
ROOM: Creative Studio
DESCRIPTION:Come sew with us! Make a cute and super handy fabric phone hol
 der - perfect for keeping your phone close and your hands free. All materi
 als and equipment will be provided. If you have taken our beginner sewing 
 class or have experience using a sewing machine, you are welcome to sign-u
 p. 
URL:https://www.byronlibrary.org/event/sewing-phone-holder-17484
END:VEVENT
END:VCALENDAR
