BEGIN:VCALENDAR
VERSION:2.0
PRODID:-//Library Market//iCal Export//EN
BEGIN:VEVENT
SUMMARY:Felt Flower Wreath
UID:17498
DTSTAMP:20260422T181700Z
DTSTART:20260309T223000Z
DTEND:20260310T003000Z
LOCATION:Byron Public Library District, 100 S Washington St., Byron, IL 61
 010, United States
ROOM: Creative Studio
DESCRIPTION:Join us in the studio to create this Felt Flower Embroidery Ho
 op Wreath project that combines a wooden embroidery hoop with handmade fel
 t flowers. The perfect addition to any spring decor or to give as a gift!
URL:https://www.byronlibrary.org/event/diy-felt-flower-wreath-17498
END:VEVENT
END:VCALENDAR
