BEGIN:VCALENDAR
VERSION:2.0
PRODID:-//Library Market//iCal Export//EN
BEGIN:VEVENT
SUMMARY:Ready, Set, Ninja!
UID:17677
DTSTAMP:20260422T181700Z
DTSTART:20260331T150000Z
DTEND:20260331T154500Z
LOCATION:Byron Public Library District, 100 S Washington St., Byron, IL 61
 010, United States
ROOM: Activity Room &amp; Meeting Room
DESCRIPTION:Join us for ninja crafts and activities! Spring break fun for 
 the entire family! Register children only; adults should attend but do not
  need to register.
URL:https://www.byronlibrary.org/event/family-program-17677
END:VEVENT
END:VCALENDAR
