BEGIN:VCALENDAR
VERSION:2.0
PRODID:-//Library Market//iCal Export//EN
BEGIN:VEVENT
SUMMARY:Toddler Spring Craft Kit
UID:17948
DTSTAMP:20260422T181700Z
DTSTART:20260313T140000Z
DTEND:20260313T220000Z
LOCATION:Byron Public Library District, 100 S Washington St., Byron, IL 61
 010, United States
ROOM: Toddler Spring Craft Kit
DESCRIPTION:For ages 18 months-2 years. A fun spring themed craft just rig
 ht for toddlers!
URL:https://www.byronlibrary.org/event/toddler-spring-craft-kit-17948
END:VEVENT
END:VCALENDAR
