BEGIN:VCALENDAR
VERSION:2.0
PRODID:-//Library Market//iCal Export//EN
BEGIN:VEVENT
SUMMARY:Grade School Painted Bird House Craft Kit
UID:17950
DTSTAMP:20260422T181700Z
DTSTART:20260313T140000Z
DTEND:20260313T220000Z
LOCATION:Byron Public Library District, 100 S Washington St., Byron, IL 61
 010, United States
ROOM: Grade School Painted Bird House Craft Kit
DESCRIPTION:For grade schoolers only; there is a separate kit registration
  for preschoolers. Decorate a wood bird house. Pick up kit, beginning Frid
 ay, March 13.
URL:https://www.byronlibrary.org/event/grade-school-painted-bird-house-cra
 ft-kit-17950
END:VEVENT
END:VCALENDAR
