BEGIN:VCALENDAR
VERSION:2.0
PRODID:-//Library Market//iCal Export//EN
BEGIN:VEVENT
SUMMARY:Fizzy Dough-Thursday
UID:17952
DTSTAMP:20260422T181700Z
DTSTART:20260312T204500Z
DTEND:20260312T213000Z
LOCATION:Byron Public Library District, 100 S Washington St., Byron, IL 61
 010, United States
ROOM: Activity Room
DESCRIPTION:For K-5th: Make dough and then create colorful chemical reacti
 ons.Note: Grade schoolers attend after school programs without an adult. I
 f you child needs extra support, please contact Julie.
URL:https://www.byronlibrary.org/event/fizzy-dough-thursday-17952
END:VEVENT
END:VCALENDAR
