BEGIN:VCALENDAR
VERSION:2.0
PRODID:-//Library Market//iCal Export//EN
BEGIN:VEVENT
SUMMARY:Ready, Set, Ninja!
UID:17954
DTSTAMP:20260422T164600Z
DTSTART:20260331T230000Z
DTEND:20260331T234500Z
LOCATION:Byron Public Library District, 100 S Washington St., Byron, IL 61
 010, United States
ROOM: Activity Room &amp; Meeting Room
DESCRIPTION:Join us for ninja crafts and activities! Spring break fun for 
 the entire family! Register children only; adults should attend but do not
  need to register.
URL:https://www.byronlibrary.org/event/ready-set-ninja-17954
END:VEVENT
END:VCALENDAR
