BEGIN:VCALENDAR
VERSION:2.0
PRODID:-//Library Market//iCal Export//EN
BEGIN:VEVENT
SUMMARY:Family Fun: Air Toobz Play
UID:17961
DTSTAMP:20260422T164600Z
DTSTART:20260402T183000Z
DTEND:20260402T191500Z
LOCATION:Byron Public Library District, 100 S Washington St., Byron, IL 61
 010, United States
ROOM: Activity Room &amp; Meeting Room
DESCRIPTION: Join us for Air Toobz play during spring break. Connect tube
 s, drop in balls, and watch them fly! Repeat for endless fun for the entir
 e family.Registration Notes: One adult should register. You are supervisin
 g during this event. You may invite friends; bring as many children as you
  think will enjoy the Air Toobz play. 
URL:https://www.byronlibrary.org/event/family-fun-air-toobz-play-17961
END:VEVENT
END:VCALENDAR
