BEGIN:VCALENDAR
VERSION:2.0
PRODID:-//Library Market//iCal Export//EN
BEGIN:VEVENT
SUMMARY:Preschool Storytime: Spring Session Wednesdays
UID:17964
DTSTAMP:20260422T153700Z
DTSTART:20260304T153000Z
DTEND:20260304T163000Z
LOCATION:Byron Public Library District, 100 S Washington St., Byron, IL 61
 010, United States
ROOM: Activity Room
DESCRIPTION:No class March 25 or April 1. 
URL:https://www.byronlibrary.org/event/preschool-storytime-spring-session-
 wednesdays-17964
END:VEVENT
END:VCALENDAR
