BEGIN:VCALENDAR
VERSION:2.0
PRODID:-//Library Market//iCal Export//EN
BEGIN:VEVENT
SUMMARY:Preschool Storytime: Spring Session Wednesdays
UID:17965
DTSTAMP:20260422T151000Z
DTSTART:20260311T143000Z
DTEND:20260311T153000Z
LOCATION:Byron Public Library District, 100 S Washington St., Byron, IL 61
 010, United States
ROOM: Activity Room
DESCRIPTION:No class March 25 or April 1. 
URL:https://www.byronlibrary.org/event/preschool-storytime-spring-session-
 wednesdays-17965
END:VEVENT
END:VCALENDAR
