BEGIN:VCALENDAR
VERSION:2.0
PRODID:-//Library Market//iCal Export//EN
BEGIN:VEVENT
SUMMARY:Preschool Storytime: Spring Session Thursdays
UID:17974
DTSTAMP:20260422T164600Z
DTSTART:20260409T143000Z
DTEND:20260409T153000Z
LOCATION:Byron Public Library District, 100 S Washington St., Byron, IL 61
 010, United States
ROOM: Activity Room
DESCRIPTION:No class March 26 or April 2. 
URL:https://www.byronlibrary.org/event/preschool-storytime-spring-session-
 thursdays-17974
END:VEVENT
END:VCALENDAR
