BEGIN:VCALENDAR
VERSION:2.0
PRODID:-//Library Market//iCal Export//EN
BEGIN:VEVENT
SUMMARY:Toddler Time: Spring Session Wednesdays
UID:17982
DTSTAMP:20260422T151000Z
DTSTART:20260415T143000Z
DTEND:20260415T151500Z
LOCATION:Byron Public Library District, 100 S Washington St., Byron, IL 61
 010, United States
ROOM: Meeting Room
DESCRIPTION:No class March 25 or April 1. 
URL:https://www.byronlibrary.org/event/baby-toddler-time-spring-session-we
 dnesdays-17982
END:VEVENT
END:VCALENDAR
