BEGIN:VCALENDAR
VERSION:2.0
PRODID:-//Library Market//iCal Export//EN
BEGIN:VEVENT
SUMMARY:Toddler Time: Spring Session Wednesdays
UID:17983
DTSTAMP:20260422T132200Z
DTSTART:20260422T143000Z
DTEND:20260422T151500Z
LOCATION:Byron Public Library District, 100 S Washington St., Byron, IL 61
 010, United States
ROOM: Meeting Room
DESCRIPTION:No class March 25 or April 1. 
URL:https://www.byronlibrary.org/event/baby-toddler-time-spring-session-we
 dnesdays-17983
END:VEVENT
END:VCALENDAR
