BEGIN:VCALENDAR
VERSION:2.0
PRODID:-//Library Market//iCal Export//EN
BEGIN:VEVENT
SUMMARY:Toddler Time: Spring Session Thursdays
UID:17985
DTSTAMP:20260422T151000Z
DTSTART:20260305T153000Z
DTEND:20260305T161500Z
LOCATION:Byron Public Library District, 100 S Washington St., Byron, IL 61
 010, United States
ROOM: Meeting Room
DESCRIPTION:Join Miss Meghan for a book, songs, movement, &amp; parachute 
 time, followed by open play. This class is for walkers-35 months, with a c
 aregiver. Babies with an older sibling in this class or an older sibling i
 n preschool storytime may also register. No class March 25 or April 1.  
URL:https://www.byronlibrary.org/event/baby-toddler-time-spring-session-th
 ursdays-17985
END:VEVENT
END:VCALENDAR
