BEGIN:VCALENDAR
VERSION:2.0
PRODID:-//Library Market//iCal Export//EN
BEGIN:VEVENT
SUMMARY:Toddler Time: Spring Session Thursdays
UID:17986
DTSTAMP:20260422T151000Z
DTSTART:20260312T143000Z
DTEND:20260312T151500Z
LOCATION:Byron Public Library District, 100 S Washington St., Byron, IL 61
 010, United States
ROOM: Meeting Room
DESCRIPTION:No class March 26 or April 2. 
URL:https://www.byronlibrary.org/event/baby-toddler-time-spring-session-th
 ursdays-17986
END:VEVENT
END:VCALENDAR
