BEGIN:VCALENDAR
VERSION:2.0
PRODID:-//Library Market//iCal Export//EN
BEGIN:VEVENT
SUMMARY:Baby Storytime &amp; Play-Spring Session
UID:17995
DTSTAMP:20260422T164600Z
DTSTART:20260407T163000Z
DTEND:20260407T171500Z
LOCATION:Byron Public Library District, 100 S Washington St., Byron, IL 61
 010, United States
ROOM: Activity Room
DESCRIPTION:For infants-beginning walkers, with caregiver: Introduce your 
 baby to storytime with songs, rhymes &amp; books. This program consists of
  15-20 minutes of guided content, followed by playtime with baby toys &amp
 ; time to visit with other parents. Older siblings welcome but should be 
 able to sit for the beginning part of the program; bring a doll or stuffie
 , so sibling can participate. Confident walkers should register for Toddle
 r Explore.No class: March 24 and March 31.
URL:https://www.byronlibrary.org/event/baby-storytime-play-spring-session-
 17995
END:VEVENT
END:VCALENDAR
