BEGIN:VCALENDAR
VERSION:2.0
PRODID:-//Library Market//iCal Export//EN
BEGIN:VEVENT
SUMMARY:Alcohol Ink Cards
UID:18091
DTSTAMP:20260422T181700Z
DTSTART:20260407T223000Z
DTEND:20260408T003000Z
LOCATION:Byron Public Library District, 100 S Washington St., Byron, IL 61
 010, United States
ROOM: Creative Studio
DESCRIPTION:You will get to blend vibrant colors of alcohol ink to create 
 custom design elements for your cards. You will leave with three cards tha
 t are unique to you. 
URL:https://www.byronlibrary.org/event/alcohol-ink-cards-18091
END:VEVENT
END:VCALENDAR
