BEGIN:VCALENDAR
VERSION:2.0
PRODID:-//Library Market//iCal Export//EN
BEGIN:VEVENT
SUMMARY:Mini Terra Cotta Pot Bee Bath Kit
UID:18121
DTSTAMP:20260422T164600Z
DTSTART:20260522T140000Z
DTEND:20260522T220000Z
LOCATION:Byron Public Library District, 100 S Washington St., Byron, IL 61
 010, United States
ROOM: Mini Terra Cotta Pot Bee Bath Kit
DESCRIPTION:Support local pollinators with this DIY Bee Bath Kit! The kit 
 includes everything you need and instructions to create a safe hydration s
 tation. Perfect for gardens, this kit helps bees safely collect water to k
 eep their hives cool! No registration. First come, first served. Limit 1 p
 er person. While supplies last. 
URL:https://www.byronlibrary.org/event/mini-terra-cotta-pot-bee-bath-kit-1
 8121
END:VEVENT
END:VCALENDAR
