BEGIN:VCALENDAR
VERSION:2.0
PRODID:-//Library Market//iCal Export//EN
BEGIN:VEVENT
SUMMARY:Volunteens- Painting Kindness Rocks
UID:18125
DTSTAMP:20260422T181700Z
DTSTART:20260303T000000Z
DTEND:20260303T010000Z
LOCATION:Byron Public Library District, 100 S Washington St., Byron, IL 61
 010, United States
ROOM: Teen Department
DESCRIPTION:Earn volunteer credit by painting Kindness Rocks on March 2nd 
 to place around the Byron community this spring!
URL:https://www.byronlibrary.org/event/volunteens-painting-kindness-rocks-
 18125
END:VEVENT
END:VCALENDAR
