BEGIN:VCALENDAR
VERSION:2.0
PRODID:-//Library Market//iCal Export//EN
BEGIN:VEVENT
SUMMARY:Teen Time
UID:18128
DTSTAMP:20260422T181700Z
DTSTART:20260304T210000Z
DTEND:20260304T230000Z
LOCATION:Byron Public Library District, 100 S Washington St., Byron, IL 61
 010, United States
ROOM: Teen Department &amp; Creative Studio
DESCRIPTION:Join our after-school Teen Time in our teen department! Come h
 ang out with friends, make crafts and play video games in a space that was
  created just for you! Come anytime between 3-5 pm- no registration requir
 ed. 
URL:https://www.byronlibrary.org/event/teen-time-18128
END:VEVENT
END:VCALENDAR
